Package: ggmsa Version: 1.14.1 Command: /home/biocbuild/R/R/bin/R CMD build --keep-empty-dirs --no-resave-data ggmsa StartedAt: 2025-10-14 01:14:15 -0000 (Tue, 14 Oct 2025) EndedAt: 2025-10-14 01:14:22 -0000 (Tue, 14 Oct 2025) EllapsedTime: 7.0 seconds RetCode: 1 Status: ERROR PackageFile: None PackageFileSize: NA