Package: ggmsa Version: 1.16.0 Command: /Library/Frameworks/R.framework/Resources/bin/R CMD INSTALL ggmsa StartedAt: 2025-10-31 15:14:05 -0400 (Fri, 31 Oct 2025) EndedAt: 2025-10-31 15:14:11 -0400 (Fri, 31 Oct 2025) EllapsedTime: 6.1 seconds RetCode: 0 Status: OK