Package: ggmsa Version: 1.16.0 Command: rm -rf ggmsa.buildbin-libdir && mkdir ggmsa.buildbin-libdir && /Users/biocbuild/BBS/utils/build-universal.sh ggmsa_1.16.0.tar.gz /Library/Frameworks/R.framework/Resources/bin/R ggmsa.buildbin-libdir StartedAt: 2025-10-31 23:08:55 -0400 (Fri, 31 Oct 2025) EndedAt: 2025-10-31 23:09:02 -0400 (Fri, 31 Oct 2025) EllapsedTime: 7.2 seconds RetCode: 0 Status: OK PackageFile: ggmsa_1.16.0.tgz PackageFileSize: 2.375 MiB