Package: ggmanh Version: 1.14.0 Command: /home/biocbuild/bbs-3.22-bioc/R/bin/R CMD INSTALL ggmanh StartedAt: 2025-11-02 15:45:22 -0500 (Sun, 02 Nov 2025) EndedAt: 2025-11-02 15:45:30 -0500 (Sun, 02 Nov 2025) EllapsedTime: 7.3 seconds RetCode: 0 Status: OK