Package: ggmanh Version: 1.14.0 Command: /home/biocbuild/bbs-3.22-bioc/R/bin/R CMD build --keep-empty-dirs --no-resave-data --md5 ggmanh StartedAt: 2025-10-31 18:01:29 -0400 (Fri, 31 Oct 2025) EndedAt: 2025-10-31 18:02:19 -0400 (Fri, 31 Oct 2025) EllapsedTime: 50.0 seconds RetCode: 0 Status: OK PackageFile: ggmanh_1.14.0.tar.gz PackageFileSize: 4.237 MiB