Package: ggkegg Version: 1.8.0 Command: /home/biocbuild/bbs-3.22-bioc/R/bin/R CMD INSTALL ggkegg StartedAt: 2025-11-02 15:16:51 -0500 (Sun, 02 Nov 2025) EndedAt: 2025-11-02 15:17:06 -0500 (Sun, 02 Nov 2025) EllapsedTime: 15.2 seconds RetCode: 0 Status: OK