Package: ggkegg Version: 1.8.0 Command: /home/biocbuild/bbs-3.22-bioc/R/bin/R CMD build --keep-empty-dirs --no-resave-data --md5 ggkegg StartedAt: 2025-11-03 17:53:44 -0500 (Mon, 03 Nov 2025) EndedAt: 2025-11-03 17:54:19 -0500 (Mon, 03 Nov 2025) EllapsedTime: 35.0 seconds RetCode: 0 Status: OK PackageFile: ggkegg_1.8.0.tar.gz PackageFileSize: 3.527 MiB