Package: ggcyto Version: 1.38.0 Command: /home/biocbuild/bbs-3.22-bioc/R/bin/R CMD INSTALL ggcyto StartedAt: 2025-10-30 15:36:06 -0400 (Thu, 30 Oct 2025) EndedAt: 2025-10-30 15:36:23 -0400 (Thu, 30 Oct 2025) EllapsedTime: 16.8 seconds RetCode: 0 Status: OK