Package: ggcyto Version: 1.38.0 Command: /home/biocbuild/bbs-3.22-bioc/R/bin/R CMD build --keep-empty-dirs --no-resave-data --md5 ggcyto StartedAt: 2025-10-30 17:51:47 -0400 (Thu, 30 Oct 2025) EndedAt: 2025-10-30 17:53:33 -0400 (Thu, 30 Oct 2025) EllapsedTime: 105.1 seconds RetCode: 0 Status: OK PackageFile: ggcyto_1.38.0.tar.gz PackageFileSize: 21.42 MiB