Package: ggbio Version: 1.58.0 Command: /home/biocbuild/bbs-3.22-bioc/R/bin/R CMD build --keep-empty-dirs --no-resave-data --md5 ggbio StartedAt: 2025-11-11 17:56:37 -0500 (Tue, 11 Nov 2025) EndedAt: 2025-11-11 18:02:55 -0500 (Tue, 11 Nov 2025) EllapsedTime: 378.4 seconds RetCode: 0 Status: OK PackageFile: ggbio_1.58.0.tar.gz PackageFileSize: 3.339 MiB