Package: ggbio Version: 1.58.0 Command: /Library/Frameworks/R.framework/Resources/bin/R CMD INSTALL ggbio StartedAt: 2025-11-03 15:44:25 -0500 (Mon, 03 Nov 2025) EndedAt: 2025-11-03 15:45:44 -0500 (Mon, 03 Nov 2025) EllapsedTime: 78.6 seconds RetCode: 0 Status: OK