Package: ggbio Version: 1.56.1 Command: /home/biocbuild/R/R/bin/R CMD INSTALL ggbio StartedAt: 2025-10-13 21:00:00 -0000 (Mon, 13 Oct 2025) EndedAt: 2025-10-13 21:01:28 -0000 (Mon, 13 Oct 2025) EllapsedTime: 87.8 seconds RetCode: 0 Status: OK