Package: ggbio Version: 1.56.1 Command: /home/biocbuild/R/R/bin/R CMD build --keep-empty-dirs --no-resave-data ggbio StartedAt: 2025-10-14 01:12:18 -0000 (Tue, 14 Oct 2025) EndedAt: 2025-10-14 01:18:54 -0000 (Tue, 14 Oct 2025) EllapsedTime: 396.1 seconds RetCode: 0 Status: OK PackageFile: ggbio_1.56.1.tar.gz PackageFileSize: 3.096 MiB