Package: ggbio Version: 1.56.0 Command: /Library/Frameworks/R.framework/Resources/bin/R CMD build --keep-empty-dirs --no-resave-data ggbio StartedAt: 2025-04-21 16:28:10 -0400 (Mon, 21 Apr 2025) EndedAt: 2025-04-21 16:30:04 -0400 (Mon, 21 Apr 2025) EllapsedTime: 114.3 seconds RetCode: 0 Status: OK PackageFile: ggbio_1.56.0.tar.gz PackageFileSize: 3.096 MiB