Package: ggbio Version: 1.58.0 Command: /Library/Frameworks/R.framework/Resources/bin/R CMD INSTALL ggbio StartedAt: 2025-11-20 18:20:49 -0500 (Thu, 20 Nov 2025) EndedAt: 2025-11-20 18:21:55 -0500 (Thu, 20 Nov 2025) EllapsedTime: 65.9 seconds RetCode: 0 Status: OK