Package: ggbio Version: 1.58.0 Command: /Library/Frameworks/R.framework/Resources/bin/R CMD build --keep-empty-dirs --no-resave-data ggbio StartedAt: 2025-11-21 01:58:34 -0500 (Fri, 21 Nov 2025) EndedAt: 2025-11-21 02:06:13 -0500 (Fri, 21 Nov 2025) EllapsedTime: 458.3 seconds RetCode: 0 Status: OK PackageFile: ggbio_1.58.0.tar.gz PackageFileSize: 3.332 MiB