Package: ggbio Version: 1.58.0 Command: rm -rf ggbio.buildbin-libdir && mkdir ggbio.buildbin-libdir && /Users/biocbuild/BBS/utils/build-universal.sh ggbio_1.58.0.tar.gz /Library/Frameworks/R.framework/Resources/bin/R ggbio.buildbin-libdir StartedAt: 2025-11-23 08:55:45 -0500 (Sun, 23 Nov 2025) EndedAt: 2025-11-23 08:57:30 -0500 (Sun, 23 Nov 2025) EllapsedTime: 105.0 seconds RetCode: 0 Status: OK PackageFile: ggbio_1.58.0.tgz PackageFileSize: 3.513 MiB