Package: gg4way Version: 1.8.0 Command: /home/biocbuild/bbs-3.22-bioc/R/bin/R CMD INSTALL gg4way StartedAt: 2025-11-11 15:27:13 -0500 (Tue, 11 Nov 2025) EndedAt: 2025-11-11 15:27:39 -0500 (Tue, 11 Nov 2025) EllapsedTime: 26.0 seconds RetCode: 0 Status: OK