Package: gg4way Version: 1.8.0 Command: /home/biocbuild/bbs-3.22-bioc/R/bin/R CMD build --keep-empty-dirs --no-resave-data --md5 gg4way StartedAt: 2025-11-11 17:56:24 -0500 (Tue, 11 Nov 2025) EndedAt: 2025-11-11 17:57:44 -0500 (Tue, 11 Nov 2025) EllapsedTime: 80.1 seconds RetCode: 0 Status: OK PackageFile: gg4way_1.8.0.tar.gz PackageFileSize: 2.923 MiB