Package: geyser Version: 1.2.0 Command: /home/biocbuild/bbs-3.22-bioc/R/bin/R CMD INSTALL geyser StartedAt: 2025-11-11 15:21:58 -0500 (Tue, 11 Nov 2025) EndedAt: 2025-11-11 15:22:22 -0500 (Tue, 11 Nov 2025) EllapsedTime: 24.5 seconds RetCode: 0 Status: OK