Package: geyser Version: 1.2.0 Command: /Library/Frameworks/R.framework/Resources/bin/R CMD build --keep-empty-dirs --no-resave-data geyser StartedAt: 2025-11-10 16:32:13 -0500 (Mon, 10 Nov 2025) EndedAt: 2025-11-10 16:32:30 -0500 (Mon, 10 Nov 2025) EllapsedTime: 17.2 seconds RetCode: 0 Status: OK PackageFile: geyser_1.2.0.tar.gz PackageFileSize: 2.279 MiB