Package: geyser Version: 1.2.0 Command: rm -rf geyser.buildbin-libdir && mkdir geyser.buildbin-libdir && /Users/biocbuild/BBS/utils/build-universal.sh geyser_1.2.0.tar.gz /Library/Frameworks/R.framework/Resources/bin/R geyser.buildbin-libdir StartedAt: 2025-11-10 23:21:52 -0500 (Mon, 10 Nov 2025) EndedAt: 2025-11-10 23:22:04 -0500 (Mon, 10 Nov 2025) EllapsedTime: 12.2 seconds RetCode: 0 Status: OK PackageFile: geyser_1.2.0.tgz PackageFileSize: 1.324 MiB