Package: geva Version: 1.18.0 Command: /home/biocbuild/bbs-3.22-bioc/R/bin/R CMD INSTALL geva StartedAt: 2025-11-03 15:06:40 -0500 (Mon, 03 Nov 2025) EndedAt: 2025-11-03 15:07:14 -0500 (Mon, 03 Nov 2025) EllapsedTime: 34.2 seconds RetCode: 0 Status: OK