Package: getDEE2 Version: 1.20.0 Command: /home/biocbuild/R/R/bin/R CMD INSTALL getDEE2 StartedAt: 2025-11-13 21:25:18 -0000 (Thu, 13 Nov 2025) EndedAt: 2025-11-13 21:25:45 -0000 (Thu, 13 Nov 2025) EllapsedTime: 26.3 seconds RetCode: 0 Status: OK