Package: getDEE2 Version: 1.20.0 Command: /home/biocbuild/R/R/bin/R CMD build --keep-empty-dirs --no-resave-data getDEE2 StartedAt: 2025-11-14 02:07:47 -0000 (Fri, 14 Nov 2025) EndedAt: 2025-11-14 02:12:36 -0000 (Fri, 14 Nov 2025) EllapsedTime: 288.1 seconds RetCode: 0 Status: OK PackageFile: getDEE2_1.20.0.tar.gz PackageFileSize: 24.4 KiB