Package: getDEE2 Version: 1.18.0 Command: rm -rf getDEE2.buildbin-libdir && mkdir getDEE2.buildbin-libdir && /Users/biocbuild/BBS/utils/build-universal.sh getDEE2_1.18.0.tar.gz /Library/Frameworks/R.framework/Resources/bin/R getDEE2.buildbin-libdir StartedAt: 2025-09-27 17:41:31 -0400 (Sat, 27 Sep 2025) EndedAt: 2025-09-27 17:41:57 -0400 (Sat, 27 Sep 2025) EllapsedTime: 25.9 seconds RetCode: 0 Status: OK PackageFile: getDEE2_1.18.0.tgz PackageFileSize: 73.24 KiB