Package: gep2pep Version: 1.30.0 Command: /home/biocbuild/bbs-3.22-bioc/R/bin/R CMD check --install=check:gep2pep.install-out.txt --library=/home/biocbuild/bbs-3.22-bioc/R/site-library --timings gep2pep_1.30.0.tar.gz StartedAt: 2025-11-14 00:10:45 -0500 (Fri, 14 Nov 2025) EndedAt: 2025-11-14 00:13:03 -0500 (Fri, 14 Nov 2025) EllapsedTime: 138.1 seconds RetCode: 0 Status: OK CheckDir: gep2pep.Rcheck Warnings: 0