Package: gep2pep Version: 1.30.0 Command: /home/biocbuild/bbs-3.22-bioc/R/bin/R CMD build --keep-empty-dirs --no-resave-data --md5 gep2pep StartedAt: 2025-11-11 17:55:41 -0500 (Tue, 11 Nov 2025) EndedAt: 2025-11-11 17:56:04 -0500 (Tue, 11 Nov 2025) EllapsedTime: 23.0 seconds RetCode: 0 Status: OK PackageFile: gep2pep_1.30.0.tar.gz PackageFileSize: 122.8 KiB