Package: gep2pep Version: 1.28.0 Command: /home/biocbuild/bbs-3.21-bioc/R/bin/R CMD build --keep-empty-dirs --no-resave-data gep2pep StartedAt: 2025-10-15 17:42:40 -0400 (Wed, 15 Oct 2025) EndedAt: 2025-10-15 17:43:04 -0400 (Wed, 15 Oct 2025) EllapsedTime: 24.0 seconds RetCode: 0 Status: OK PackageFile: gep2pep_1.28.0.tar.gz PackageFileSize: 121.6 KiB