Package: gep2pep Version: 1.30.0 Command: /Library/Frameworks/R.framework/Resources/bin/R CMD build --keep-empty-dirs --no-resave-data gep2pep StartedAt: 2025-10-31 17:14:32 -0400 (Fri, 31 Oct 2025) EndedAt: 2025-10-31 17:15:09 -0400 (Fri, 31 Oct 2025) EllapsedTime: 36.9 seconds RetCode: 0 Status: OK PackageFile: gep2pep_1.30.0.tar.gz PackageFileSize: 121.8 KiB