Package: gep2pep Version: 1.30.0 Command: rm -rf gep2pep.buildbin-libdir && mkdir gep2pep.buildbin-libdir && /Users/biocbuild/BBS/utils/build-universal.sh gep2pep_1.30.0.tar.gz /Library/Frameworks/R.framework/Resources/bin/R gep2pep.buildbin-libdir StartedAt: 2025-11-01 01:36:24 -0400 (Sat, 01 Nov 2025) EndedAt: 2025-11-01 01:36:49 -0400 (Sat, 01 Nov 2025) EllapsedTime: 25.2 seconds RetCode: 0 Status: OK PackageFile: gep2pep_1.30.0.tgz PackageFileSize: 469.6 KiB