Package: gep2pep Version: 1.28.0 Command: /home/biocbuild/R/R/bin/R CMD INSTALL gep2pep StartedAt: 2025-10-02 21:05:15 -0000 (Thu, 02 Oct 2025) EndedAt: 2025-10-02 21:05:38 -0000 (Thu, 02 Oct 2025) EllapsedTime: 22.6 seconds RetCode: 0 Status: OK