Package: gep2pep Version: 1.28.0 Command: /home/biocbuild/R/R/bin/R CMD build --keep-empty-dirs --no-resave-data gep2pep StartedAt: 2025-10-03 01:14:57 -0000 (Fri, 03 Oct 2025) EndedAt: 2025-10-03 01:15:31 -0000 (Fri, 03 Oct 2025) EllapsedTime: 34.0 seconds RetCode: 0 Status: OK PackageFile: gep2pep_1.28.0.tar.gz PackageFileSize: 122.5 KiB