Package: gep2pep Version: 1.28.0 Command: rm -rf gep2pep.buildbin-libdir && mkdir gep2pep.buildbin-libdir && /Users/biocbuild/BBS/utils/build-universal.sh gep2pep_1.28.0.tar.gz /Library/Frameworks/R.framework/Resources/bin/R gep2pep.buildbin-libdir StartedAt: 2025-10-15 18:41:55 -0400 (Wed, 15 Oct 2025) EndedAt: 2025-10-15 18:42:17 -0400 (Wed, 15 Oct 2025) EllapsedTime: 21.3 seconds RetCode: 0 Status: OK PackageFile: gep2pep_1.28.0.tgz PackageFileSize: 469.5 KiB