Package: geomeTriD Version: 1.4.0 Command: /home/biocbuild/bbs-3.22-bioc/R/bin/R CMD INSTALL geomeTriD StartedAt: 2025-11-11 15:53:11 -0500 (Tue, 11 Nov 2025) EndedAt: 2025-11-11 15:54:09 -0500 (Tue, 11 Nov 2025) EllapsedTime: 58.4 seconds RetCode: 0 Status: OK