Package: geomeTriD Version: 1.4.0 Command: /home/biocbuild/bbs-3.22-bioc/R/bin/R CMD check --install=check:geomeTriD.install-out.txt --library=/home/biocbuild/bbs-3.22-bioc/R/site-library --timings geomeTriD_1.4.0.tar.gz StartedAt: 2025-11-17 00:13:23 -0500 (Mon, 17 Nov 2025) EndedAt: 2025-11-17 00:20:51 -0500 (Mon, 17 Nov 2025) EllapsedTime: 447.5 seconds RetCode: 0 Status: OK CheckDir: geomeTriD.Rcheck Warnings: 0