Package: geomeTriD Version: 1.4.0 Command: /Library/Frameworks/R.framework/Resources/bin/R CMD INSTALL geomeTriD StartedAt: 2025-11-03 15:48:01 -0500 (Mon, 03 Nov 2025) EndedAt: 2025-11-03 15:49:20 -0500 (Mon, 03 Nov 2025) EllapsedTime: 79.4 seconds RetCode: 0 Status: OK