Package: geomeTriD Version: 1.4.0 Command: rm -rf geomeTriD.buildbin-libdir && mkdir geomeTriD.buildbin-libdir && /Users/biocbuild/BBS/utils/build-universal.sh geomeTriD_1.4.0.tar.gz /Library/Frameworks/R.framework/Resources/bin/R geomeTriD.buildbin-libdir StartedAt: 2025-11-04 01:42:17 -0500 (Tue, 04 Nov 2025) EndedAt: 2025-11-04 01:43:42 -0500 (Tue, 04 Nov 2025) EllapsedTime: 85.7 seconds RetCode: 0 Status: OK PackageFile: geomeTriD_1.4.0.tgz PackageFileSize: 1.659 MiB