Package: geomeTriD Version: 1.2.2 Command: /home/biocbuild/R/R/bin/R CMD INSTALL geomeTriD StartedAt: 2025-10-09 21:05:16 -0000 (Thu, 09 Oct 2025) EndedAt: 2025-10-09 21:06:37 -0000 (Thu, 09 Oct 2025) EllapsedTime: 80.6 seconds RetCode: 0 Status: OK