Package: geomeTriD Version: 1.2.2 Command: /home/biocbuild/R/R/bin/R CMD build --keep-empty-dirs --no-resave-data geomeTriD StartedAt: 2025-10-10 01:10:40 -0000 (Fri, 10 Oct 2025) EndedAt: 2025-10-10 01:12:44 -0000 (Fri, 10 Oct 2025) EllapsedTime: 124.0 seconds RetCode: 0 Status: OK PackageFile: geomeTriD_1.2.2.tar.gz PackageFileSize: 1.139 MiB