Package: genomicInstability Version: 1.16.0 Command: /home/biocbuild/bbs-3.22-bioc/R/bin/R CMD check --install=check:genomicInstability.install-out.txt --library=/home/biocbuild/bbs-3.22-bioc/R/site-library --timings genomicInstability_1.16.0.tar.gz StartedAt: 2025-11-15 00:05:08 -0500 (Sat, 15 Nov 2025) EndedAt: 2025-11-15 00:11:32 -0500 (Sat, 15 Nov 2025) EllapsedTime: 384.3 seconds RetCode: 0 Status: OK CheckDir: genomicInstability.Rcheck Warnings: 0