Package: genomicInstability Version: 1.16.0 Command: rm -rf genomicInstability.buildbin-libdir && mkdir genomicInstability.buildbin-libdir && /Users/biocbuild/BBS/utils/build-universal.sh genomicInstability_1.16.0.tar.gz /Library/Frameworks/R.framework/Resources/bin/R genomicInstability.buildbin-libdir StartedAt: 2025-11-04 01:42:03 -0500 (Tue, 04 Nov 2025) EndedAt: 2025-11-04 01:42:46 -0500 (Tue, 04 Nov 2025) EllapsedTime: 43.0 seconds RetCode: 0 Status: OK PackageFile: genomicInstability_1.16.0.tgz PackageFileSize: 1.266 MiB