Package: genomation Version: 1.42.0 Command: /home/biocbuild/bbs-3.22-bioc/R/bin/R CMD INSTALL genomation StartedAt: 2025-11-11 15:33:17 -0500 (Tue, 11 Nov 2025) EndedAt: 2025-11-11 15:34:05 -0500 (Tue, 11 Nov 2025) EllapsedTime: 48.4 seconds RetCode: 0 Status: OK