Package: genomation Version: 1.42.0 Command: /home/biocbuild/bbs-3.22-bioc/R/bin/R CMD check --install=check:genomation.install-out.txt --library=/home/biocbuild/bbs-3.22-bioc/R/site-library --timings genomation_1.42.0.tar.gz StartedAt: 2025-11-21 00:39:56 -0500 (Fri, 21 Nov 2025) EndedAt: 2025-11-21 00:45:37 -0500 (Fri, 21 Nov 2025) EllapsedTime: 341.3 seconds RetCode: 0 Status: WARNINGS CheckDir: genomation.Rcheck Warnings: 1