Package: genomation Version: 1.42.0 Command: /Library/Frameworks/R.framework/Resources/bin/R CMD INSTALL genomation StartedAt: 2025-11-03 15:35:56 -0500 (Mon, 03 Nov 2025) EndedAt: 2025-11-03 15:36:59 -0500 (Mon, 03 Nov 2025) EllapsedTime: 63.6 seconds RetCode: 0 Status: OK