Package: genomation Version: 1.42.0 Command: rm -rf genomation.buildbin-libdir && mkdir genomation.buildbin-libdir && /Users/biocbuild/BBS/utils/build-universal.sh genomation_1.42.0.tar.gz /Library/Frameworks/R.framework/Resources/bin/R genomation.buildbin-libdir StartedAt: 2025-11-04 01:41:50 -0500 (Tue, 04 Nov 2025) EndedAt: 2025-11-04 01:43:05 -0500 (Tue, 04 Nov 2025) EllapsedTime: 75.0 seconds RetCode: 0 Status: OK PackageFile: genomation_1.42.0.tgz PackageFileSize: 3.021 MiB