Package: genomation Version: 1.40.1 Command: /home/biocbuild/R/R/bin/R CMD INSTALL genomation StartedAt: 2025-10-13 20:42:52 -0000 (Mon, 13 Oct 2025) EndedAt: 2025-10-13 20:44:06 -0000 (Mon, 13 Oct 2025) EllapsedTime: 74.5 seconds RetCode: 0 Status: OK