Package: genomation Version: 1.40.1 Command: /home/biocbuild/R/R/bin/R CMD build --keep-empty-dirs --no-resave-data genomation StartedAt: 2025-10-14 01:05:06 -0000 (Tue, 14 Oct 2025) EndedAt: 2025-10-14 01:07:00 -0000 (Tue, 14 Oct 2025) EllapsedTime: 114.0 seconds RetCode: 0 Status: OK PackageFile: genomation_1.40.1.tar.gz PackageFileSize: 6.071 MiB