Package: geneplotter Version: 1.88.0 Command: /home/biocbuild/bbs-3.22-bioc/R/bin/R CMD INSTALL geneplotter StartedAt: 2025-11-11 15:32:14 -0500 (Tue, 11 Nov 2025) EndedAt: 2025-11-11 15:32:29 -0500 (Tue, 11 Nov 2025) EllapsedTime: 14.2 seconds RetCode: 0 Status: OK