Package: geneplotter Version: 1.88.0 Command: /Library/Frameworks/R.framework/Resources/bin/R CMD INSTALL geneplotter StartedAt: 2025-11-03 15:29:55 -0500 (Mon, 03 Nov 2025) EndedAt: 2025-11-03 15:30:15 -0500 (Mon, 03 Nov 2025) EllapsedTime: 20.2 seconds RetCode: 0 Status: OK